BEGIN:VCALENDAR
VERSION:2.0
PRODID:-//Alabama Men - ECPv6.15.20//NONSGML v1.0//EN
CALSCALE:GREGORIAN
METHOD:PUBLISH
X-ORIGINAL-URL:https://alabamamen.org
X-WR-CALDESC:Events for Alabama Men
REFRESH-INTERVAL;VALUE=DURATION:PT1H
X-Robots-Tag:noindex
X-PUBLISHED-TTL:PT1H
BEGIN:VTIMEZONE
TZID:America/Chicago
BEGIN:DAYLIGHT
TZOFFSETFROM:-0600
TZOFFSETTO:-0500
TZNAME:CDT
DTSTART:20230312T080000
END:DAYLIGHT
BEGIN:STANDARD
TZOFFSETFROM:-0500
TZOFFSETTO:-0600
TZNAME:CST
DTSTART:20231105T070000
END:STANDARD
BEGIN:DAYLIGHT
TZOFFSETFROM:-0600
TZOFFSETTO:-0500
TZNAME:CDT
DTSTART:20240310T080000
END:DAYLIGHT
BEGIN:STANDARD
TZOFFSETFROM:-0500
TZOFFSETTO:-0600
TZNAME:CST
DTSTART:20241103T070000
END:STANDARD
BEGIN:DAYLIGHT
TZOFFSETFROM:-0600
TZOFFSETTO:-0500
TZNAME:CDT
DTSTART:20250309T080000
END:DAYLIGHT
BEGIN:STANDARD
TZOFFSETFROM:-0500
TZOFFSETTO:-0600
TZNAME:CST
DTSTART:20251102T070000
END:STANDARD
END:VTIMEZONE
BEGIN:VEVENT
DTSTART;VALUE=DATE:20240624
DTEND;VALUE=DATE:20240627
DTSTAMP:20260421T075037
CREATED:20240325T193844Z
LAST-MODIFIED:20240325T193910Z
UID:10000044-1719187200-1719446399@alabamamen.org
SUMMARY:Mini Missions Adventure Camp
DESCRIPTION:Get the camp experience just for girls and boys featuring everything WorldSong Missions Adventure Camp has to offer. Campers get the whole campus for themselves! This mini session features activities for all ages\, as well as special activities specifically crafted for each age level!
URL:https://alabamamen.org/event/mini-missions-adventure-camp-2/
LOCATION:WorldSong Missions Place\, 1200 Worldsong Road\, Cook Springs\, AL\, 35052\, United States
ATTACH;FMTTYPE=image/webp:https://alabamamen.org/wp-content/uploads/2024/03/Screenshot-2024-03-14-at-16.59.11.webp
END:VEVENT
END:VCALENDAR