BEGIN:VCALENDAR
VERSION:2.0
PRODID:-//Alabama Men - ECPv6.15.20//NONSGML v1.0//EN
CALSCALE:GREGORIAN
METHOD:PUBLISH
X-ORIGINAL-URL:https://alabamamen.org
X-WR-CALDESC:Events for Alabama Men
REFRESH-INTERVAL;VALUE=DURATION:PT1H
X-Robots-Tag:noindex
X-PUBLISHED-TTL:PT1H
BEGIN:VTIMEZONE
TZID:America/Chicago
BEGIN:DAYLIGHT
TZOFFSETFROM:-0600
TZOFFSETTO:-0500
TZNAME:CDT
DTSTART:20230312T080000
END:DAYLIGHT
BEGIN:STANDARD
TZOFFSETFROM:-0500
TZOFFSETTO:-0600
TZNAME:CST
DTSTART:20231105T070000
END:STANDARD
BEGIN:DAYLIGHT
TZOFFSETFROM:-0600
TZOFFSETTO:-0500
TZNAME:CDT
DTSTART:20240310T080000
END:DAYLIGHT
BEGIN:STANDARD
TZOFFSETFROM:-0500
TZOFFSETTO:-0600
TZNAME:CST
DTSTART:20241103T070000
END:STANDARD
BEGIN:DAYLIGHT
TZOFFSETFROM:-0600
TZOFFSETTO:-0500
TZNAME:CDT
DTSTART:20250309T080000
END:DAYLIGHT
BEGIN:STANDARD
TZOFFSETFROM:-0500
TZOFFSETTO:-0600
TZNAME:CST
DTSTART:20251102T070000
END:STANDARD
END:VTIMEZONE
BEGIN:VEVENT
DTSTART;VALUE=DATE:20240610
DTEND;VALUE=DATE:20240615
DTSTAMP:20260421T093339
CREATED:20240315T135522Z
LAST-MODIFIED:20240315T135522Z
UID:10000043-1717977600-1718409599@alabamamen.org
SUMMARY:Missions Adventure Camp for Boys\, Girls\, and their Leaders (6/10-14)
DESCRIPTION:This session is a great camping experience for girls and boys. Leaders are welcome to attend with their campers; however\, they are not required. Leader space is limited. Each group will be allowed up to 2 leaders. \n​Campers will be assigned a cabin and participate in traditional Missions Adventure Camp under the supervision of MAC Cabin Leaders. Church leaders will bunk in a separate leader cabin and have the opportunity to observe camper activities (and take pictures)\, have their own quiet-time and adult Bible study\, participate in Cabin Capers\, and more!
URL:https://alabamamen.org/event/missions-adventure-camp-for-boys-girls-and-their-leaders-6-10-14/
LOCATION:WorldSong Missions Place\, 1200 Worldsong Road\, Cook Springs\, AL\, 35052\, United States
ATTACH;FMTTYPE=image/webp:https://alabamamen.org/wp-content/uploads/2024/03/Screenshot-2024-03-14-at-16.59.11.webp
END:VEVENT
END:VCALENDAR