BEGIN:VCALENDAR
VERSION:2.0
PRODID:-//Alabama Men - ECPv6.15.20//NONSGML v1.0//EN
CALSCALE:GREGORIAN
METHOD:PUBLISH
X-ORIGINAL-URL:https://alabamamen.org
X-WR-CALDESC:Events for Alabama Men
REFRESH-INTERVAL;VALUE=DURATION:PT1H
X-Robots-Tag:noindex
X-PUBLISHED-TTL:PT1H
BEGIN:VTIMEZONE
TZID:America/Chicago
BEGIN:DAYLIGHT
TZOFFSETFROM:-0600
TZOFFSETTO:-0500
TZNAME:CDT
DTSTART:20220313T080000
END:DAYLIGHT
BEGIN:STANDARD
TZOFFSETFROM:-0500
TZOFFSETTO:-0600
TZNAME:CST
DTSTART:20221106T070000
END:STANDARD
BEGIN:DAYLIGHT
TZOFFSETFROM:-0600
TZOFFSETTO:-0500
TZNAME:CDT
DTSTART:20230312T080000
END:DAYLIGHT
BEGIN:STANDARD
TZOFFSETFROM:-0500
TZOFFSETTO:-0600
TZNAME:CST
DTSTART:20231105T070000
END:STANDARD
BEGIN:DAYLIGHT
TZOFFSETFROM:-0600
TZOFFSETTO:-0500
TZNAME:CDT
DTSTART:20240310T080000
END:DAYLIGHT
BEGIN:STANDARD
TZOFFSETFROM:-0500
TZOFFSETTO:-0600
TZNAME:CST
DTSTART:20241103T070000
END:STANDARD
END:VTIMEZONE
BEGIN:VEVENT
DTSTART;TZID=America/Chicago:20230805T100000
DTEND;TZID=America/Chicago:20230805T170000
DTSTAMP:20260421T235801
CREATED:20220405T145025Z
LAST-MODIFIED:20230720T191723Z
UID:10000030-1691229600-1691254800@alabamamen.org
SUMMARY:Called Conference
DESCRIPTION:The call to ministry can seem like the most complex decision to wade through. We want to help. The Called Conference is a one-day event designed to help young women and young men (high school through college) who are dealing with the life-changing call to ministry. Cost is $30. \n\nFill out my online form.\n\n  Fill out my Wufoo form!
URL:https://alabamamen.org/event/called-conference/
LOCATION:Samford University\, 800 Lakeshore Dr\, Homewood\, AL\, 35229\, United States
ATTACH;FMTTYPE=image/webp:https://alabamamen.org/wp-content/uploads/2023/02/Called-Yellow-Logo-Web.webp
ORGANIZER;CN="Mary Kelley":MAILTO:mkelley@alsbom.org
END:VEVENT
END:VCALENDAR